BEGIN:VCALENDAR
VERSION:2.0
PRODID:-//Contratero//ES
CALSCALE:GREGORIAN
METHOD:PUBLISH
BEGIN:VEVENT
UID:AVSS 01103 25/89@contratero.es
DTSTAMP:20260420T002053Z
DTSTART:20251218T235959
DTEND:20251219T005959
SUMMARY:Cierre: Subministración\,implantación\, posta e funcionament
DESCRIPTION:Subministración\,implantación\, posta e funcionamento e mantemento dun software baixo a modalidade SAAS para a xestión da canle interna de información do Concello de Ferrol\\n\\nOrganismo: Junta de Gobierno Local del Ayuntamiento de Ferrol\\n\\nVer en Contratero: https://contratero.es/contracts/AVSS 01103 25/89
URL:https://contratero.es/contracts/AVSS 01103 25/89
STATUS:CONFIRMED
BEGIN:VALARM
TRIGGER:-P1D
ACTION:DISPLAY
DESCRIPTION:Recordatorio: Subministración\,implantación\, 
END:VALARM
END:VEVENT
END:VCALENDAR